BEGIN:VCALENDAR
VERSION:2.0
PRODID:-//European Deaf Sports Organisation - ECPv6.9.0//NONSGML v1.0//EN
CALSCALE:GREGORIAN
METHOD:PUBLISH
X-WR-CALNAME:European Deaf Sports Organisation
X-ORIGINAL-URL:https://www.edso.eu
X-WR-CALDESC:Events for European Deaf Sports Organisation
REFRESH-INTERVAL;VALUE=DURATION:PT1H
X-Robots-Tag:noindex
X-PUBLISHED-TTL:PT1H
BEGIN:VTIMEZONE
TZID:UTC
BEGIN:STANDARD
TZOFFSETFROM:+0000
TZOFFSETTO:+0000
TZNAME:UTC
DTSTART:20160101T000000
END:STANDARD
END:VTIMEZONE
BEGIN:VEVENT
DTSTART;VALUE=DATE:20160814
DTEND;VALUE=DATE:20160821
DTSTAMP:20260422T004234
CREATED:20150508T073301Z
LAST-MODIFIED:20160804T085213Z
UID:1435-1471132800-1471737599@www.edso.eu
SUMMARY:8th European Cycling Championship
DESCRIPTION:
URL:https://www.edso.eu/event/8th-european-cycling-championship/
LOCATION:Brugge – Eeklo\, Brugge\, Belgium
CATEGORIES:Cycling,European Championships
ATTACH;FMTTYPE=image/jpeg:https://www.edso.eu/wp-content/uploads/2015/05/Affiche-8th-European-Deaf-Championships-Cycling-2016-scaled.jpg
END:VEVENT
END:VCALENDAR