BEGIN:VCALENDAR
VERSION:2.0
PRODID:-//European Deaf Sports Organisation - ECPv6.9.0//NONSGML v1.0//EN
CALSCALE:GREGORIAN
METHOD:PUBLISH
X-ORIGINAL-URL:https://www.edso.eu
X-WR-CALDESC:Events for European Deaf Sports Organisation
REFRESH-INTERVAL;VALUE=DURATION:PT1H
X-Robots-Tag:noindex
X-PUBLISHED-TTL:PT1H
BEGIN:VTIMEZONE
TZID:UTC
BEGIN:STANDARD
TZOFFSETFROM:+0000
TZOFFSETTO:+0000
TZNAME:UTC
DTSTART:20160101T000000
END:STANDARD
END:VTIMEZONE
BEGIN:VEVENT
DTSTART;VALUE=DATE:20160805
DTEND;VALUE=DATE:20160814
DTSTAMP:20260425T131714
CREATED:20150508T071849Z
LAST-MODIFIED:20151228T163530Z
UID:1424-1470355200-1471132799@www.edso.eu
SUMMARY:1st U21 European Football Championships
DESCRIPTION:
URL:https://www.edso.eu/event/1st-u21-european-football-championships/
LOCATION:Stadion Oporowska\, Wroclaw\, Poland
CATEGORIES:European Championships,Football
ATTACH;FMTTYPE=image/jpeg:https://www.edso.eu/wp-content/uploads/2015/12/Poster-repacked.jpg
ORGANIZER;CN="Polish Deaf Sports Association":MAILTO:info@pzsn.pl
END:VEVENT
BEGIN:VEVENT
DTSTART;VALUE=DATE:20160814
DTEND;VALUE=DATE:20160821
DTSTAMP:20260425T131714
CREATED:20150508T073301Z
LAST-MODIFIED:20160804T085213Z
UID:1435-1471132800-1471737599@www.edso.eu
SUMMARY:8th European Cycling Championship
DESCRIPTION:
URL:https://www.edso.eu/event/8th-european-cycling-championship/
LOCATION:Brugge – Eeklo\, Brugge\, Belgium
CATEGORIES:Cycling,European Championships
ATTACH;FMTTYPE=image/jpeg:https://www.edso.eu/wp-content/uploads/2015/05/Affiche-8th-European-Deaf-Championships-Cycling-2016-scaled.jpg
END:VEVENT
BEGIN:VEVENT
DTSTART;VALUE=DATE:20160822
DTEND;VALUE=DATE:20160829
DTSTAMP:20260425T131714
CREATED:20160209T200518Z
LAST-MODIFIED:20160209T200541Z
UID:3877-1471824000-1472428799@www.edso.eu
SUMMARY:Sports Summer Camp 2016
DESCRIPTION:
URL:https://www.edso.eu/event/sports-summer-camp-2016/
LOCATION:Karlsruhe\, Karlsruhe\, Germany
CATEGORIES:Athletics
ATTACH;FMTTYPE=image/jpeg:https://www.edso.eu/wp-content/uploads/2016/02/Plakat-Englisch-001.jpg
END:VEVENT
BEGIN:VEVENT
DTSTART;VALUE=DATE:20160825
DTEND;VALUE=DATE:20160828
DTSTAMP:20260425T131714
CREATED:20150508T073038Z
LAST-MODIFIED:20160525T075650Z
UID:1431-1472083200-1472342399@www.edso.eu
SUMMARY:3rd European Junior Athletics Championship
DESCRIPTION:
URL:https://www.edso.eu/event/3rd-european-junior-athletics-championship/
LOCATION:Karlsruhe\, Karlsruhe\, Germany
CATEGORIES:Athletics,European Championships
ATTACH;FMTTYPE=image/jpeg:https://www.edso.eu/wp-content/uploads/2015/04/3rdECjunior.jpg
END:VEVENT
END:VCALENDAR