BEGIN:VCALENDAR
VERSION:2.0
PRODID:-//European Deaf Sports Organisation - ECPv6.9.0//NONSGML v1.0//EN
CALSCALE:GREGORIAN
METHOD:PUBLISH
X-WR-CALNAME:European Deaf Sports Organisation
X-ORIGINAL-URL:https://www.edso.eu
X-WR-CALDESC:Events for European Deaf Sports Organisation
REFRESH-INTERVAL;VALUE=DURATION:PT1H
X-Robots-Tag:noindex
X-PUBLISHED-TTL:PT1H
BEGIN:VTIMEZONE
TZID:UTC
BEGIN:STANDARD
TZOFFSETFROM:+0000
TZOFFSETTO:+0000
TZNAME:UTC
DTSTART:20160101T000000
END:STANDARD
END:VTIMEZONE
BEGIN:VEVENT
DTSTART;VALUE=DATE:20160506
DTEND;VALUE=DATE:20160508
DTSTAMP:20260425T175052
CREATED:20160115T193558Z
LAST-MODIFIED:20160121T160324Z
UID:3804-1462492800-1462665599@www.edso.eu
SUMMARY:100 Years Tournament GSV Düsseldorf
DESCRIPTION:GSV Düsseldorf celebrates 100th anniversary with international participation.
URL:https://www.edso.eu/event/100-years-tournament-gsv-dusseldorf/
LOCATION:Düsseldorf\, Düsseldorf\, Germany
CATEGORIES:Badminton,Football,Volleyball
ATTACH;FMTTYPE=image/jpeg:https://www.edso.eu/wp-content/uploads/2016/01/100-Year-Tournament-GSV-Duesseldorf-1916-scaled.jpg
ORGANIZER;CN="GSV D%C3%BCsseldorf":MAILTO:anmeldung@gsv-duesseldorf-100.de
END:VEVENT
BEGIN:VEVENT
DTSTART;VALUE=DATE:20160507
DTEND;VALUE=DATE:20160508
DTSTAMP:20260425T175052
CREATED:20160424T231043Z
LAST-MODIFIED:20161006T132232Z
UID:4582-1462579200-1462665599@www.edso.eu
SUMMARY:23. DEAFLYMPICS QUALIFIER Match UKRAINE – ITALY IN FOOTBALL MEN
DESCRIPTION:
URL:https://www.edso.eu/event/23-deaflympics-qualifier-match-ukraine-italy-in-football-men/
LOCATION:Lustdorf Stadium\, Odessa\, Ukraine
CATEGORIES:Deaflympics,Football
ATTACH;FMTTYPE=image/jpeg:https://www.edso.eu/wp-content/uploads/2015/10/UA_vs_IT_football.jpg
END:VEVENT
BEGIN:VEVENT
DTSTART;VALUE=DATE:20160509
DTEND;VALUE=DATE:20160514
DTSTAMP:20260425T175052
CREATED:20151113T220231Z
LAST-MODIFIED:20151113T220231Z
UID:3520-1462752000-1463183999@www.edso.eu
SUMMARY:9. DCL football (men)
DESCRIPTION:
URL:https://www.edso.eu/event/9-dcl-football-men/
LOCATION:Århus\, Århus\, Denmark
CATEGORIES:Football,International Tournaments
ATTACH;FMTTYPE=image/png:https://www.edso.eu/wp-content/uploads/2015/05/Football.png
END:VEVENT
BEGIN:VEVENT
DTSTART;VALUE=DATE:20160513
DTEND;VALUE=DATE:20160516
DTSTAMP:20260425T175052
CREATED:20151113T220556Z
LAST-MODIFIED:20151113T220556Z
UID:3522-1463097600-1463356799@www.edso.eu
SUMMARY:115 Years Anniversary Sports Competition
DESCRIPTION:
URL:https://www.edso.eu/event/115-years-anniversary-sports-competition/
LOCATION:Vienna\, Vienna\, Austria
CATEGORIES:Badminton,Beach Volleyball,Bowling,Cross Country,Football,International Tournaments,Table Tennis
ATTACH;FMTTYPE=image/jpeg:https://www.edso.eu/wp-content/uploads/2015/11/wgsc1901_turnier_2016_eng-1000x1419.jpg
END:VEVENT
BEGIN:VEVENT
DTSTART;VALUE=DATE:20160515
DTEND;VALUE=DATE:20160523
DTSTAMP:20260425T175052
CREATED:20150508T071517Z
LAST-MODIFIED:20160518T071946Z
UID:1420-1463270400-1463961599@www.edso.eu
SUMMARY:11th European Handball Championships
DESCRIPTION:
URL:https://www.edso.eu/event/11th-european-handball-championships/
LOCATION:Berlin\, Berlin\, Germany
CATEGORIES:European Championships,Handball
ATTACH;FMTTYPE=image/jpeg:https://www.edso.eu/wp-content/uploads/2016/05/handball_poster.jpg
END:VEVENT
BEGIN:VEVENT
DTSTART;VALUE=DATE:20160523
DTEND;VALUE=DATE:20160529
DTSTAMP:20260425T175052
CREATED:20150508T072918Z
LAST-MODIFIED:20151207T223643Z
UID:1429-1463961600-1464479999@www.edso.eu
SUMMARY:1st European Junior Volleyball Championships
DESCRIPTION:
URL:https://www.edso.eu/event/1st-european-junior-volleyball-championships/
LOCATION:Lodz\, Lodz\, Poland
CATEGORIES:European Championships,Volleyball
ATTACH;FMTTYPE=image/jpeg:https://www.edso.eu/wp-content/uploads/2015/05/LODZ-poster.jpg
END:VEVENT
BEGIN:VEVENT
DTSTART;VALUE=DATE:20160527
DTEND;VALUE=DATE:20160530
DTSTAMP:20260425T175052
CREATED:20151112T141707Z
LAST-MODIFIED:20160627T203727Z
UID:3259-1464307200-1464566399@www.edso.eu
SUMMARY:1st Deaf MTB Europa Cup for Clubs 2016
DESCRIPTION:
URL:https://www.edso.eu/event/deaf-mtb-europa-cup-for-clubs/
LOCATION:Dema Bike Park Kalnica\, Kalnica\, Slovakia (Slovak Republic)
CATEGORIES:International Tournaments,Mountain Bike
ATTACH;FMTTYPE=image/jpeg:https://www.edso.eu/wp-content/uploads/2015/11/Plagat_DMEC-Kalnica.jpg
END:VEVENT
END:VCALENDAR