BEGIN:VCALENDAR
VERSION:2.0
PRODID:-//European Deaf Sports Organisation - ECPv6.9.0//NONSGML v1.0//EN
CALSCALE:GREGORIAN
METHOD:PUBLISH
X-WR-CALNAME:European Deaf Sports Organisation
X-ORIGINAL-URL:https://www.edso.eu
X-WR-CALDESC:Events for European Deaf Sports Organisation
REFRESH-INTERVAL;VALUE=DURATION:PT1H
X-Robots-Tag:noindex
X-PUBLISHED-TTL:PT1H
BEGIN:VTIMEZONE
TZID:UTC
BEGIN:STANDARD
TZOFFSETFROM:+0000
TZOFFSETTO:+0000
TZNAME:UTC
DTSTART:20160101T000000
END:STANDARD
END:VTIMEZONE
BEGIN:VEVENT
DTSTART;VALUE=DATE:20160209
DTEND;VALUE=DATE:20160214
DTSTAMP:20260425T225207
CREATED:20151113T215800Z
LAST-MODIFIED:20151113T215800Z
UID:3515-1454976000-1455407999@www.edso.eu
SUMMARY:3. DCL futsal (men and women)
DESCRIPTION:
URL:https://www.edso.eu/event/3-dcl-futsal-men-and-women/
LOCATION:Ayamonte\, Ayamonte\, Spain
CATEGORIES:Futsal,International Tournaments
ATTACH;FMTTYPE=image/png:https://www.edso.eu/wp-content/uploads/2015/05/Futsal.png
END:VEVENT
BEGIN:VEVENT
DTSTART;VALUE=DATE:20160212
DTEND;VALUE=DATE:20160215
DTSTAMP:20260425T225207
CREATED:20151101T170720Z
LAST-MODIFIED:20161006T123136Z
UID:3019-1455235200-1455494399@www.edso.eu
SUMMARY:EC 2016 Qualification Matches: Basketball - Group B
DESCRIPTION:
URL:https://www.edso.eu/event/ec-2016-qualification-matches-basketball-group-b/
LOCATION:Hadar Yosef Sports Hall\, Tel Aviv-Yafo\, Israel
CATEGORIES:Basketball
ATTACH;FMTTYPE=image/jpeg:https://www.edso.eu/wp-content/uploads/2015/11/2016-EC-Poster-Qualification-Group-B-new-scaled.jpg
END:VEVENT
BEGIN:VEVENT
DTSTART;VALUE=DATE:20160218
DTEND;VALUE=DATE:20160228
DTSTAMP:20260425T225207
CREATED:20150508T071039Z
LAST-MODIFIED:20161108T095606Z
UID:1414-1455753600-1456617599@www.edso.eu
SUMMARY:Cancelled! 11th European Alpine Skiing Championship
DESCRIPTION:
URL:https://www.edso.eu/event/11th-european-alpine-skiing-championship-2/
CATEGORIES:Alpine Skiing,European Championships
ATTACH;FMTTYPE=image/png:https://www.edso.eu/wp-content/uploads/2015/05/Alpine-Skiing.png
END:VEVENT
BEGIN:VEVENT
DTSTART;VALUE=DATE:20160218
DTEND;VALUE=DATE:20160228
DTSTAMP:20260425T225207
CREATED:20150508T071145Z
LAST-MODIFIED:20160525T075739Z
UID:1416-1455753600-1456617599@www.edso.eu
SUMMARY:Cancelled! 9th European Cross Country Skiing Championship
DESCRIPTION:
URL:https://www.edso.eu/event/9th-european-cross-country-skiing-championship/
CATEGORIES:Cross Country Skiing,European Championships
ATTACH;FMTTYPE=image/png:https://www.edso.eu/wp-content/uploads/2015/05/Cross-Country-Skiing.png
END:VEVENT
BEGIN:VEVENT
DTSTART;VALUE=DATE:20160218
DTEND;VALUE=DATE:20160228
DTSTAMP:20260425T225207
CREATED:20150508T071240Z
LAST-MODIFIED:20161108T100713Z
UID:1417-1455753600-1456617599@www.edso.eu
SUMMARY:Cancelled! 2nd European Snowboard Championship
DESCRIPTION:
URL:https://www.edso.eu/event/2nd-european-snowboard-championship-2/
CATEGORIES:European Championships,Snowboard
ATTACH;FMTTYPE=image/png:https://www.edso.eu/wp-content/uploads/2015/05/Snowboard.png
END:VEVENT
END:VCALENDAR