BEGIN:VCALENDAR
VERSION:2.0
PRODID:-//European Deaf Sports Organisation - ECPv6.9.0//NONSGML v1.0//EN
CALSCALE:GREGORIAN
METHOD:PUBLISH
X-ORIGINAL-URL:https://www.edso.eu
X-WR-CALDESC:Events for European Deaf Sports Organisation
REFRESH-INTERVAL;VALUE=DURATION:PT1H
X-Robots-Tag:noindex
X-PUBLISHED-TTL:PT1H
BEGIN:VTIMEZONE
TZID:UTC
BEGIN:STANDARD
TZOFFSETFROM:+0000
TZOFFSETTO:+0000
TZNAME:UTC
DTSTART:20190101T000000
END:STANDARD
END:VTIMEZONE
BEGIN:VEVENT
DTSTART;VALUE=DATE:20191010
DTEND;VALUE=DATE:20191015
DTSTAMP:20260421T162258
CREATED:20180409T211611Z
LAST-MODIFIED:20180409T211829Z
UID:6540-1570665600-1571097599@www.edso.eu
SUMMARY:2nd European Judo Championships
DESCRIPTION:
URL:https://www.edso.eu/event/2nd-european-judo-championships/
LOCATION:Brasschaat\, Belgium\, Brasschaat\, Belgium
CATEGORIES:European Championships,Judo
ATTACH;FMTTYPE=image/jpeg:https://www.edso.eu/wp-content/uploads/2018/04/1st-Infobulletin-EC-Judo-BELGIUM.jpg
END:VEVENT
END:VCALENDAR