BEGIN:VCALENDAR
VERSION:2.0
PRODID:-//European Deaf Sports Organisation - ECPv6.9.0//NONSGML v1.0//EN
CALSCALE:GREGORIAN
METHOD:PUBLISH
X-ORIGINAL-URL:https://www.edso.eu
X-WR-CALDESC:Events for European Deaf Sports Organisation
REFRESH-INTERVAL;VALUE=DURATION:PT1H
X-Robots-Tag:noindex
X-PUBLISHED-TTL:PT1H
BEGIN:VTIMEZONE
TZID:UTC
BEGIN:STANDARD
TZOFFSETFROM:+0000
TZOFFSETTO:+0000
TZNAME:UTC
DTSTART:20160101T000000
END:STANDARD
END:VTIMEZONE
BEGIN:VEVENT
DTSTART;VALUE=DATE:20161001
DTEND;VALUE=DATE:20161201
DTSTAMP:20260425T103438
CREATED:20150508T073432Z
LAST-MODIFIED:20160525T075643Z
UID:1437-1475280000-1480550399@www.edso.eu
SUMMARY:Cancelled! 1st European Swimming (short course\, 25m) Championship
DESCRIPTION:
URL:https://www.edso.eu/event/1st-european-swimming-short-course-25m-championship/
LOCATION:Milan or Roma\, Italy
CATEGORIES:European Championships,Swimming
ATTACH;FMTTYPE=image/png:https://www.edso.eu/wp-content/uploads/2015/05/Swimming.png
END:VEVENT
BEGIN:VEVENT
DTSTART;VALUE=DATE:20161123
DTEND;VALUE=DATE:20161127
DTSTAMP:20260425T103438
CREATED:20160924T173621Z
LAST-MODIFIED:20170618T104213Z
UID:5593-1479859200-1480204799@www.edso.eu
SUMMARY:8th DIBF European Cup Basketball - Club
DESCRIPTION:
URL:https://www.edso.eu/event/8th-dibf-european-cup-basketball-club/
LOCATION:Istanbul\, Istanbul\, Turkey
CATEGORIES:Basketball,International Tournaments
ATTACH;FMTTYPE=image/jpeg:https://www.edso.eu/wp-content/uploads/2016/09/new-poster.jpg
ORGANIZER;CN="Deaf International Basketball Federation":MAILTO:deafturkish@gmail.com
END:VEVENT
BEGIN:VEVENT
DTSTART;VALUE=DATE:20161124
DTEND;VALUE=DATE:20161127
DTSTAMP:20260425T103438
CREATED:20160924T174740Z
LAST-MODIFIED:20160924T174740Z
UID:5603-1479945600-1480204799@www.edso.eu
SUMMARY:3rd Deaf Volleyball Champions League (DVCL)
DESCRIPTION:
URL:https://www.edso.eu/event/3rd-deaf-volleyball-champions-league-dvcl/
LOCATION:Rimini\, Rimini\, Italy
CATEGORIES:International Tournaments,Volleyball
ATTACH;FMTTYPE=image/png:https://www.edso.eu/wp-content/uploads/2015/05/Volleyball.png
END:VEVENT
END:VCALENDAR