BEGIN:VCALENDAR
VERSION:2.0
PRODID:-//European Deaf Sports Organisation - ECPv6.9.0//NONSGML v1.0//EN
CALSCALE:GREGORIAN
METHOD:PUBLISH
X-WR-CALNAME:European Deaf Sports Organisation
X-ORIGINAL-URL:https://www.edso.eu
X-WR-CALDESC:Events for European Deaf Sports Organisation
REFRESH-INTERVAL;VALUE=DURATION:PT1H
X-Robots-Tag:noindex
X-PUBLISHED-TTL:PT1H
BEGIN:VTIMEZONE
TZID:UTC
BEGIN:STANDARD
TZOFFSETFROM:+0000
TZOFFSETTO:+0000
TZNAME:UTC
DTSTART:20160101T000000
END:STANDARD
END:VTIMEZONE
BEGIN:VEVENT
DTSTART;VALUE=DATE:20160924
DTEND;VALUE=DATE:20160926
DTSTAMP:20260425T114527
CREATED:20160627T204100Z
LAST-MODIFIED:20160627T204100Z
UID:5021-1474675200-1474847999@www.edso.eu
SUMMARY:3rd Deaf MTB Europacup for Clubs 2016
DESCRIPTION:
URL:https://www.edso.eu/event/3rd-deaf-mtb-europacup-for-clubs-2016/
LOCATION:Feldthurns – Südtirol\, Feldthurns\, Italy
CATEGORIES:Mountain Bike
ATTACH;FMTTYPE=image/jpeg:https://www.edso.eu/wp-content/uploads/2016/06/Poster-3rd-Deaf-MTB-Europacup-2016-Italy.jpg
ORGANIZER;CN="S%C3%BCdtiroler Geh%C3%B6rlosen SG":MAILTO:sgsgbozen@gmail.com
END:VEVENT
END:VCALENDAR