BEGIN:VCALENDAR
VERSION:2.0
PRODID:-//European Deaf Sports Organisation - ECPv6.9.0//NONSGML v1.0//EN
CALSCALE:GREGORIAN
METHOD:PUBLISH
X-ORIGINAL-URL:https://www.edso.eu
X-WR-CALDESC:Events for European Deaf Sports Organisation
REFRESH-INTERVAL;VALUE=DURATION:PT1H
X-Robots-Tag:noindex
X-PUBLISHED-TTL:PT1H
BEGIN:VTIMEZONE
TZID:UTC
BEGIN:STANDARD
TZOFFSETFROM:+0000
TZOFFSETTO:+0000
TZNAME:UTC
DTSTART:20160101T000000
END:STANDARD
END:VTIMEZONE
BEGIN:VEVENT
DTSTART;VALUE=DATE:20160725
DTEND;VALUE=DATE:20160731
DTSTAMP:20260425T161615
CREATED:20150508T073159Z
LAST-MODIFIED:20160525T080136Z
UID:1433-1469404800-1469923199@www.edso.eu
SUMMARY:8th European Orienteering Championship
DESCRIPTION:
URL:https://www.edso.eu/event/8th-european-orienteering-championships/
LOCATION:Olomouc\, Olomouc\, Czech Republic
CATEGORIES:European Championships,Orienteering
ATTACH;FMTTYPE=image/png:https://www.edso.eu/wp-content/uploads/2015/12/Logo-original6.png
END:VEVENT
BEGIN:VEVENT
DTSTART;VALUE=DATE:20160725
DTEND;VALUE=DATE:20160801
DTSTAMP:20260425T161615
CREATED:20151228T140618Z
LAST-MODIFIED:20160525T080111Z
UID:3725-1469404800-1470009599@www.edso.eu
SUMMARY:3rd European Junior Orienteering Championship
DESCRIPTION:
URL:https://www.edso.eu/event/3rd-european-junior-orienteering-championship/
LOCATION:Olomouc\, Olomouc\, Czech Republic
CATEGORIES:European Championships,Orienteering
ATTACH;FMTTYPE=image/png:https://www.edso.eu/wp-content/uploads/2015/12/Logo-original6.png
END:VEVENT
END:VCALENDAR