BEGIN:VCALENDAR
VERSION:2.0
PRODID:-//European Deaf Sports Organisation - ECPv6.9.0//NONSGML v1.0//EN
CALSCALE:GREGORIAN
METHOD:PUBLISH
X-ORIGINAL-URL:https://www.edso.eu
X-WR-CALDESC:Events for European Deaf Sports Organisation
REFRESH-INTERVAL;VALUE=DURATION:PT1H
X-Robots-Tag:noindex
X-PUBLISHED-TTL:PT1H
BEGIN:VTIMEZONE
TZID:UTC
BEGIN:STANDARD
TZOFFSETFROM:+0000
TZOFFSETTO:+0000
TZNAME:UTC
DTSTART:20160101T000000
END:STANDARD
END:VTIMEZONE
BEGIN:VEVENT
DTSTART;VALUE=DATE:20160709
DTEND;VALUE=DATE:20160711
DTSTAMP:20260425T161553
CREATED:20160627T203649Z
LAST-MODIFIED:20160627T203649Z
UID:5018-1468022400-1468195199@www.edso.eu
SUMMARY:2nd Deaf MTB Europacup for Clubs 2016
DESCRIPTION:
URL:https://www.edso.eu/event/2nd-deaf-mtb-europacup-for-clubs-2016/
LOCATION:Javorník\, Hodonín\, Javorník\, Hodonín\, Czech Republic
CATEGORIES:Mountain Bike
ATTACH;FMTTYPE=image/jpeg:https://www.edso.eu/wp-content/uploads/2016/06/Poster-2nd-Deaf-MTB-Europacup-2016-Czech.jpg
ORGANIZER;CN="Jean-Pierre Fauconnier":MAILTO:dieubes@hotmail.com
END:VEVENT
END:VCALENDAR