BEGIN:VCALENDAR
VERSION:2.0
PRODID:-//European Deaf Sports Organisation - ECPv6.9.0//NONSGML v1.0//EN
CALSCALE:GREGORIAN
METHOD:PUBLISH
X-WR-CALNAME:European Deaf Sports Organisation
X-ORIGINAL-URL:https://www.edso.eu
X-WR-CALDESC:Events for European Deaf Sports Organisation
REFRESH-INTERVAL;VALUE=DURATION:PT1H
X-Robots-Tag:noindex
X-PUBLISHED-TTL:PT1H
BEGIN:VTIMEZONE
TZID:UTC
BEGIN:STANDARD
TZOFFSETFROM:+0000
TZOFFSETTO:+0000
TZNAME:UTC
DTSTART:20160101T000000
END:STANDARD
END:VTIMEZONE
BEGIN:VEVENT
DTSTART;VALUE=DATE:20160527
DTEND;VALUE=DATE:20160530
DTSTAMP:20260426T002053
CREATED:20151112T141707Z
LAST-MODIFIED:20160627T203727Z
UID:3259-1464307200-1464566399@www.edso.eu
SUMMARY:1st Deaf MTB Europa Cup for Clubs 2016
DESCRIPTION:
URL:https://www.edso.eu/event/deaf-mtb-europa-cup-for-clubs/
LOCATION:Dema Bike Park Kalnica\, Kalnica\, Slovakia (Slovak Republic)
CATEGORIES:International Tournaments,Mountain Bike
ATTACH;FMTTYPE=image/jpeg:https://www.edso.eu/wp-content/uploads/2015/11/Plagat_DMEC-Kalnica.jpg
END:VEVENT
END:VCALENDAR