BEGIN:VCALENDAR
VERSION:2.0
PRODID:-//European Deaf Sports Organisation - ECPv6.9.0//NONSGML v1.0//EN
CALSCALE:GREGORIAN
METHOD:PUBLISH
X-ORIGINAL-URL:https://www.edso.eu
X-WR-CALDESC:Events for European Deaf Sports Organisation
REFRESH-INTERVAL;VALUE=DURATION:PT1H
X-Robots-Tag:noindex
X-PUBLISHED-TTL:PT1H
BEGIN:VTIMEZONE
TZID:UTC
BEGIN:STANDARD
TZOFFSETFROM:+0000
TZOFFSETTO:+0000
TZNAME:UTC
DTSTART:20160101T000000
END:STANDARD
END:VTIMEZONE
BEGIN:VEVENT
DTSTART;VALUE=DATE:20160509
DTEND;VALUE=DATE:20160514
DTSTAMP:20260425T211044
CREATED:20151113T220231Z
LAST-MODIFIED:20151113T220231Z
UID:3520-1462752000-1463183999@www.edso.eu
SUMMARY:9. DCL football (men)
DESCRIPTION:
URL:https://www.edso.eu/event/9-dcl-football-men/
LOCATION:Århus\, Århus\, Denmark
CATEGORIES:Football,International Tournaments
ATTACH;FMTTYPE=image/png:https://www.edso.eu/wp-content/uploads/2015/05/Football.png
END:VEVENT
END:VCALENDAR