BEGIN:VCALENDAR
VERSION:2.0
PRODID:-//European Deaf Sports Organisation - ECPv6.9.0//NONSGML v1.0//EN
CALSCALE:GREGORIAN
METHOD:PUBLISH
X-ORIGINAL-URL:https://www.edso.eu
X-WR-CALDESC:Events for European Deaf Sports Organisation
REFRESH-INTERVAL;VALUE=DURATION:PT1H
X-Robots-Tag:noindex
X-PUBLISHED-TTL:PT1H
BEGIN:VTIMEZONE
TZID:UTC
BEGIN:STANDARD
TZOFFSETFROM:+0000
TZOFFSETTO:+0000
TZNAME:UTC
DTSTART:20160101T000000
END:STANDARD
END:VTIMEZONE
BEGIN:VEVENT
DTSTART;VALUE=DATE:20160209
DTEND;VALUE=DATE:20160214
DTSTAMP:20260426T031818
CREATED:20151113T215800Z
LAST-MODIFIED:20151113T215800Z
UID:3515-1454976000-1455407999@www.edso.eu
SUMMARY:3. DCL futsal (men and women)
DESCRIPTION:
URL:https://www.edso.eu/event/3-dcl-futsal-men-and-women/
LOCATION:Ayamonte\, Ayamonte\, Spain
CATEGORIES:Futsal,International Tournaments
ATTACH;FMTTYPE=image/png:https://www.edso.eu/wp-content/uploads/2015/05/Futsal.png
END:VEVENT
END:VCALENDAR